BEGIN:VCALENDAR
VERSION:2.0
PRODID:-//Shadow Dawg - ECPv6.13.2.1//NONSGML v1.0//EN
CALSCALE:GREGORIAN
METHOD:PUBLISH
X-WR-CALNAME:Shadow Dawg
X-ORIGINAL-URL:https://shadowdawg.org
X-WR-CALDESC:Events for Shadow Dawg
REFRESH-INTERVAL;VALUE=DURATION:PT1H
X-Robots-Tag:noindex
X-PUBLISHED-TTL:PT1H
BEGIN:VTIMEZONE
TZID:America/Boise
BEGIN:DAYLIGHT
TZOFFSETFROM:-0700
TZOFFSETTO:-0600
TZNAME:MDT
DTSTART:20230312T090000
END:DAYLIGHT
BEGIN:STANDARD
TZOFFSETFROM:-0600
TZOFFSETTO:-0700
TZNAME:MST
DTSTART:20231105T080000
END:STANDARD
BEGIN:DAYLIGHT
TZOFFSETFROM:-0700
TZOFFSETTO:-0600
TZNAME:MDT
DTSTART:20240310T090000
END:DAYLIGHT
BEGIN:STANDARD
TZOFFSETFROM:-0600
TZOFFSETTO:-0700
TZNAME:MST
DTSTART:20241103T080000
END:STANDARD
END:VTIMEZONE
BEGIN:VEVENT
DTSTART;TZID=America/Boise:20240130T100000
DTEND;TZID=America/Boise:20240130T130000
DTSTAMP:20260425T185905
CREATED:20240105T103154Z
LAST-MODIFIED:20240105T103206Z
UID:9508-1706608800-1706619600@shadowdawg.org
SUMMARY:Beginning Handgun Training: Private Lesson (1-6 students)
DESCRIPTION:
URL:https://shadowdawg.org/class/beginning-handgun-training-private-lesson-1-6-students-class-full-8/
END:VEVENT
BEGIN:VEVENT
DTSTART;TZID=America/Boise:20240129T100000
DTEND;TZID=America/Boise:20240129T130000
DTSTAMP:20260425T185905
CREATED:20240105T103111Z
LAST-MODIFIED:20240105T103111Z
UID:9506-1706522400-1706533200@shadowdawg.org
SUMMARY:Beginning Handgun Training: Private Lesson (1-6 students)
DESCRIPTION:
URL:https://shadowdawg.org/class/beginning-handgun-training-private-lesson-1-6-students-9/
END:VEVENT
BEGIN:VEVENT
DTSTART;TZID=America/Boise:20240127T100000
DTEND;TZID=America/Boise:20240127T130000
DTSTAMP:20260425T185905
CREATED:20240105T103024Z
LAST-MODIFIED:20240105T103024Z
UID:9504-1706349600-1706360400@shadowdawg.org
SUMMARY:Beginning Handgun Training: Private Lesson (1-6 students)
DESCRIPTION:
URL:https://shadowdawg.org/class/beginning-handgun-training-private-lesson-1-6-students-8/
END:VEVENT
BEGIN:VEVENT
DTSTART;TZID=America/Boise:20240126T100000
DTEND;TZID=America/Boise:20240126T130000
DTSTAMP:20260425T185905
CREATED:20240105T102936Z
LAST-MODIFIED:20240105T102936Z
UID:9502-1706263200-1706274000@shadowdawg.org
SUMMARY:Beginning Handgun Training: Private Lesson (1-6 students)
DESCRIPTION:
URL:https://shadowdawg.org/class/beginning-handgun-training-private-lesson-1-6-students-7/
END:VEVENT
BEGIN:VEVENT
DTSTART;TZID=America/Boise:20240125T100000
DTEND;TZID=America/Boise:20240125T130000
DTSTAMP:20260425T185905
CREATED:20240105T102841Z
LAST-MODIFIED:20240105T102841Z
UID:9500-1706176800-1706187600@shadowdawg.org
SUMMARY:Beginning Handgun Training: Private Lesson (1-6 students) - class full
DESCRIPTION:
URL:https://shadowdawg.org/class/beginning-handgun-training-private-lesson-1-6-students-class-full-7/
END:VEVENT
BEGIN:VEVENT
DTSTART;TZID=America/Boise:20240124T100000
DTEND;TZID=America/Boise:20240124T130000
DTSTAMP:20260425T185905
CREATED:20240105T102801Z
LAST-MODIFIED:20240105T102801Z
UID:9498-1706090400-1706101200@shadowdawg.org
SUMMARY:Beginning Handgun Training: Private Lesson (1-6 students) - class full
DESCRIPTION:
URL:https://shadowdawg.org/class/beginning-handgun-training-private-lesson-1-6-students-class-full-6/
END:VEVENT
BEGIN:VEVENT
DTSTART;TZID=America/Boise:20240123T100000
DTEND;TZID=America/Boise:20240123T130000
DTSTAMP:20260425T185905
CREATED:20240105T102723Z
LAST-MODIFIED:20240105T102723Z
UID:9496-1706004000-1706014800@shadowdawg.org
SUMMARY:Beginning Handgun Training: Private Lesson (1-6 students) - class full
DESCRIPTION:
URL:https://shadowdawg.org/class/beginning-handgun-training-private-lesson-1-6-students-class-full-5/
END:VEVENT
BEGIN:VEVENT
DTSTART;TZID=America/Boise:20240122T100000
DTEND;TZID=America/Boise:20240122T130000
DTSTAMP:20260425T185905
CREATED:20240105T102622Z
LAST-MODIFIED:20240105T102622Z
UID:9494-1705917600-1705928400@shadowdawg.org
SUMMARY:Beginning Handgun Training: Private Lesson (1-6 students) - class full
DESCRIPTION:
URL:https://shadowdawg.org/class/beginning-handgun-training-private-lesson-1-6-students-class-full-4/
END:VEVENT
BEGIN:VEVENT
DTSTART;TZID=America/Boise:20240120T100000
DTEND;TZID=America/Boise:20240120T140000
DTSTAMP:20260425T185905
CREATED:20240101T152546Z
LAST-MODIFIED:20240101T152546Z
UID:9492-1705744800-1705759200@shadowdawg.org
SUMMARY:Beginning Handgun Training: Private Lesson (1-6 students)
DESCRIPTION:
URL:https://shadowdawg.org/class/beginning-handgun-training-private-lesson-1-6-students-6/
END:VEVENT
BEGIN:VEVENT
DTSTART;TZID=America/Boise:20240119T100000
DTEND;TZID=America/Boise:20240119T140000
DTSTAMP:20260425T185905
CREATED:20240101T152505Z
LAST-MODIFIED:20240101T152505Z
UID:9490-1705658400-1705672800@shadowdawg.org
SUMMARY:Beginning Handgun Training: Private Lesson (1-6 students) - Class Full
DESCRIPTION:
URL:https://shadowdawg.org/class/beginning-handgun-training-private-lesson-1-6-students-class-full-3/
END:VEVENT
BEGIN:VEVENT
DTSTART;TZID=America/Boise:20240118T100000
DTEND;TZID=America/Boise:20240118T140000
DTSTAMP:20260425T185905
CREATED:20240101T152428Z
LAST-MODIFIED:20240101T152428Z
UID:9488-1705572000-1705586400@shadowdawg.org
SUMMARY:Beginning Handgun Training: Private Lesson (1-6 students)
DESCRIPTION:
URL:https://shadowdawg.org/class/beginning-handgun-training-private-lesson-1-6-students-5/
END:VEVENT
BEGIN:VEVENT
DTSTART;TZID=America/Boise:20240117T100000
DTEND;TZID=America/Boise:20240117T140000
DTSTAMP:20260425T185905
CREATED:20240101T152339Z
LAST-MODIFIED:20240101T152339Z
UID:9486-1705485600-1705500000@shadowdawg.org
SUMMARY:Beginning Handgun Training: Private Lesson (1-6 students)
DESCRIPTION:
URL:https://shadowdawg.org/class/beginning-handgun-training-private-lesson-1-6-students-4/
END:VEVENT
BEGIN:VEVENT
DTSTART;TZID=America/Boise:20240116T100000
DTEND;TZID=America/Boise:20240116T140000
DTSTAMP:20260425T185905
CREATED:20240101T152256Z
LAST-MODIFIED:20240101T152256Z
UID:9484-1705399200-1705413600@shadowdawg.org
SUMMARY:Beginning Handgun Training: Private Lesson (1-6 students)
DESCRIPTION:
URL:https://shadowdawg.org/class/beginning-handgun-training-private-lesson-1-6-students-3/
END:VEVENT
BEGIN:VEVENT
DTSTART;TZID=America/Boise:20240112T100000
DTEND;TZID=America/Boise:20240112T140000
DTSTAMP:20260425T185905
CREATED:20240101T152149Z
LAST-MODIFIED:20240101T152149Z
UID:9482-1705053600-1705068000@shadowdawg.org
SUMMARY:Beginning Handgun Training: Private Lesson (1-6 students)
DESCRIPTION:
URL:https://shadowdawg.org/class/beginning-handgun-training-private-lesson-1-6-students-2/
END:VEVENT
BEGIN:VEVENT
DTSTART;TZID=America/Boise:20240112T100000
DTEND;TZID=America/Boise:20240112T140000
DTSTAMP:20260425T185905
CREATED:20240101T152102Z
LAST-MODIFIED:20240101T152102Z
UID:9480-1705053600-1705068000@shadowdawg.org
SUMMARY:Beginning Handgun Training: Private Lesson (1-6 students)
DESCRIPTION:
URL:https://shadowdawg.org/class/beginning-handgun-training-private-lesson-1-6-students/
END:VEVENT
BEGIN:VEVENT
DTSTART;TZID=America/Boise:20240111T100000
DTEND;TZID=America/Boise:20240111T140000
DTSTAMP:20260425T185905
CREATED:20240101T152027Z
LAST-MODIFIED:20240101T152027Z
UID:9478-1704967200-1704981600@shadowdawg.org
SUMMARY:Beginning Handgun Training: Private Lesson (1-6 students) - Class Full
DESCRIPTION:
URL:https://shadowdawg.org/class/beginning-handgun-training-private-lesson-1-6-students-class-full-2/
END:VEVENT
BEGIN:VEVENT
DTSTART;TZID=America/Boise:20240110T100000
DTEND;TZID=America/Boise:20240110T140000
DTSTAMP:20260425T185905
CREATED:20240101T151911Z
LAST-MODIFIED:20240101T151911Z
UID:9476-1704880800-1704895200@shadowdawg.org
SUMMARY:Beginning Handgun Training: Private Lesson (1-6 students) - Class Full
DESCRIPTION:
URL:https://shadowdawg.org/class/beginning-handgun-training-private-lesson-1-6-students-class-full/
END:VEVENT
BEGIN:VEVENT
DTSTART;TZID=America/Boise:20240109T100000
DTEND;TZID=America/Boise:20240109T140000
DTSTAMP:20260425T185905
CREATED:20240101T094443Z
LAST-MODIFIED:20240101T094443Z
UID:9474-1704794400-1704808800@shadowdawg.org
SUMMARY:Beginning Handgun: Private Lesson (1-6 people) - Class Full
DESCRIPTION:
URL:https://shadowdawg.org/class/beginning-handgun-private-lesson-1-6-people-class-full-4/
END:VEVENT
BEGIN:VEVENT
DTSTART;TZID=America/Boise:20240108T100000
DTEND;TZID=America/Boise:20240108T140000
DTSTAMP:20260425T185905
CREATED:20240101T094404Z
LAST-MODIFIED:20240101T094404Z
UID:9472-1704708000-1704722400@shadowdawg.org
SUMMARY:Beginning Handgun: Private Lesson (1-6 people)
DESCRIPTION:
URL:https://shadowdawg.org/class/beginning-handgun-private-lesson-1-6-people-4/
END:VEVENT
BEGIN:VEVENT
DTSTART;TZID=America/Boise:20240106T100000
DTEND;TZID=America/Boise:20240106T140000
DTSTAMP:20260425T185905
CREATED:20240101T094247Z
LAST-MODIFIED:20240101T094247Z
UID:9470-1704535200-1704549600@shadowdawg.org
SUMMARY:Beginning Handgun: Private Lesson (1-6 people)
DESCRIPTION:
URL:https://shadowdawg.org/class/beginning-handgun-private-lesson-1-6-people-3/
END:VEVENT
BEGIN:VEVENT
DTSTART;TZID=America/Boise:20240105T100000
DTEND;TZID=America/Boise:20240105T140000
DTSTAMP:20260425T185905
CREATED:20240101T094149Z
LAST-MODIFIED:20240101T094149Z
UID:9468-1704448800-1704463200@shadowdawg.org
SUMMARY:Beginning Handgun: Private Lesson (1-6 people)
DESCRIPTION:
URL:https://shadowdawg.org/class/beginning-handgun-private-lesson-1-6-people-2/
END:VEVENT
BEGIN:VEVENT
DTSTART;TZID=America/Boise:20240104T100000
DTEND;TZID=America/Boise:20240104T140000
DTSTAMP:20260425T185905
CREATED:20240101T094105Z
LAST-MODIFIED:20240101T094105Z
UID:9466-1704362400-1704376800@shadowdawg.org
SUMMARY:Beginning Handgun: Private Lesson (1-6 people)
DESCRIPTION:
URL:https://shadowdawg.org/class/beginning-handgun-private-lesson-1-6-people/
END:VEVENT
BEGIN:VEVENT
DTSTART;TZID=America/Boise:20240103T100000
DTEND;TZID=America/Boise:20240103T140000
DTSTAMP:20260425T185905
CREATED:20240101T093954Z
LAST-MODIFIED:20240101T093954Z
UID:9464-1704276000-1704290400@shadowdawg.org
SUMMARY:Beginning Handgun: Private Lesson (1-6 people) - Class Full
DESCRIPTION:
URL:https://shadowdawg.org/class/beginning-handgun-private-lesson-1-6-people-class-full-3/
END:VEVENT
BEGIN:VEVENT
DTSTART;TZID=America/Boise:20240102T100000
DTEND;TZID=America/Boise:20240102T140000
DTSTAMP:20260425T185905
CREATED:20240101T093904Z
LAST-MODIFIED:20240101T093904Z
UID:9462-1704189600-1704204000@shadowdawg.org
SUMMARY:Beginning Handgun: Private Lesson (1-6 people) - Class Full
DESCRIPTION:
URL:https://shadowdawg.org/class/beginning-handgun-private-lesson-1-6-people-class-full-2/
END:VEVENT
BEGIN:VEVENT
DTSTART;TZID=America/Boise:20240101T100000
DTEND;TZID=America/Boise:20240101T140000
DTSTAMP:20260425T185905
CREATED:20240101T093815Z
LAST-MODIFIED:20240101T093815Z
UID:9460-1704103200-1704117600@shadowdawg.org
SUMMARY:Beginning Handgun: Private Lesson (1-6 people) - Class Full
DESCRIPTION:
URL:https://shadowdawg.org/class/beginning-handgun-private-lesson-1-6-people-class-full/
END:VEVENT
BEGIN:VEVENT
DTSTART;TZID=America/Boise:20231216T130000
DTEND;TZID=America/Boise:20231216T150000
DTSTAMP:20260425T185905
CREATED:20231201T000255Z
LAST-MODIFIED:20231201T000255Z
UID:9457-1702731600-1702738800@shadowdawg.org
SUMMARY:Handgun Safety Training:  Private Lesson
DESCRIPTION:
URL:https://shadowdawg.org/class/handgun-safety-training-private-lesson-5/
END:VEVENT
BEGIN:VEVENT
DTSTART;TZID=America/Boise:20231215T130000
DTEND;TZID=America/Boise:20231215T150000
DTSTAMP:20260425T185905
CREATED:20231201T000148Z
LAST-MODIFIED:20231201T000214Z
UID:9454-1702645200-1702652400@shadowdawg.org
SUMMARY:Handgun Safety Training:  Private Lesson
DESCRIPTION:
URL:https://shadowdawg.org/class/handgun-safety-training-private-lesson-class-full-12/
END:VEVENT
BEGIN:VEVENT
DTSTART;TZID=America/Boise:20231214T130000
DTEND;TZID=America/Boise:20231214T150000
DTSTAMP:20260425T185905
CREATED:20231201T000103Z
LAST-MODIFIED:20231201T000103Z
UID:9452-1702558800-1702566000@shadowdawg.org
SUMMARY:Handgun Safety Training:  Private Lesson - class full
DESCRIPTION:
URL:https://shadowdawg.org/class/handgun-safety-training-private-lesson-class-full-11/
END:VEVENT
BEGIN:VEVENT
DTSTART;TZID=America/Boise:20231213T130000
DTEND;TZID=America/Boise:20231213T150000
DTSTAMP:20260425T185905
CREATED:20231201T000003Z
LAST-MODIFIED:20231201T000003Z
UID:9450-1702472400-1702479600@shadowdawg.org
SUMMARY:Handgun Safety Training:  Private Lesson - class full
DESCRIPTION:
URL:https://shadowdawg.org/class/handgun-safety-training-private-lesson-class-full-10/
END:VEVENT
BEGIN:VEVENT
DTSTART;TZID=America/Boise:20231212T130000
DTEND;TZID=America/Boise:20231212T150000
DTSTAMP:20260425T185905
CREATED:20231130T235920Z
LAST-MODIFIED:20231130T235920Z
UID:9448-1702386000-1702393200@shadowdawg.org
SUMMARY:Handgun Safety Training:  Private Lesson - class full
DESCRIPTION:
URL:https://shadowdawg.org/class/handgun-safety-training-private-lesson-class-full-9/
END:VEVENT
END:VCALENDAR