BEGIN:VCALENDAR
VERSION:2.0
PRODID:-//Shadow Dawg - ECPv6.13.2.1//NONSGML v1.0//EN
CALSCALE:GREGORIAN
METHOD:PUBLISH
X-ORIGINAL-URL:https://shadowdawg.org
X-WR-CALDESC:Events for Shadow Dawg
REFRESH-INTERVAL;VALUE=DURATION:PT1H
X-Robots-Tag:noindex
X-PUBLISHED-TTL:PT1H
BEGIN:VTIMEZONE
TZID:America/Boise
BEGIN:DAYLIGHT
TZOFFSETFROM:-0700
TZOFFSETTO:-0600
TZNAME:MDT
DTSTART:20250309T090000
END:DAYLIGHT
BEGIN:STANDARD
TZOFFSETFROM:-0600
TZOFFSETTO:-0700
TZNAME:MST
DTSTART:20251102T080000
END:STANDARD
END:VTIMEZONE
BEGIN:VEVENT
DTSTART;TZID=America/Boise:20250524T100000
DTEND;TZID=America/Boise:20250524T130000
DTSTAMP:20260424T194508
CREATED:20250514T132652Z
LAST-MODIFIED:20250514T132652Z
UID:9682-1748080800-1748091600@shadowdawg.org
SUMMARY:Beginning/Woman's Handgun Training
DESCRIPTION:
URL:https://shadowdawg.org/class/beginning-womans-handgun-training-11/
END:VEVENT
BEGIN:VEVENT
DTSTART;TZID=America/Boise:20250523T100000
DTEND;TZID=America/Boise:20250523T130000
DTSTAMP:20260424T194508
CREATED:20250514T132526Z
LAST-MODIFIED:20250514T132526Z
UID:9680-1747994400-1748005200@shadowdawg.org
SUMMARY:Beginning/Woman's Handgun Training
DESCRIPTION:
URL:https://shadowdawg.org/class/beginning-womans-handgun-training-10/
END:VEVENT
BEGIN:VEVENT
DTSTART;TZID=America/Boise:20250522T100000
DTEND;TZID=America/Boise:20250522T130000
DTSTAMP:20260424T194508
CREATED:20250514T132445Z
LAST-MODIFIED:20250514T132445Z
UID:9678-1747908000-1747918800@shadowdawg.org
SUMMARY:Beginning/Woman's Handgun Training
DESCRIPTION:
URL:https://shadowdawg.org/class/beginning-womans-handgun-training-9/
END:VEVENT
BEGIN:VEVENT
DTSTART;TZID=America/Boise:20250521T100000
DTEND;TZID=America/Boise:20250521T130000
DTSTAMP:20260424T194508
CREATED:20250514T132342Z
LAST-MODIFIED:20250514T132342Z
UID:9676-1747821600-1747832400@shadowdawg.org
SUMMARY:Beginning/Woman's Handgun Training
DESCRIPTION:
URL:https://shadowdawg.org/class/beginning-womans-handgun-training-8/
END:VEVENT
BEGIN:VEVENT
DTSTART;TZID=America/Boise:20250519T100000
DTEND;TZID=America/Boise:20250519T130000
DTSTAMP:20260424T194508
CREATED:20250514T131934Z
LAST-MODIFIED:20250514T131934Z
UID:9674-1747648800-1747659600@shadowdawg.org
SUMMARY:Beginning/Woman's Handgun Training
DESCRIPTION:
URL:https://shadowdawg.org/class/beginning-womans-handgun-training-7/
END:VEVENT
BEGIN:VEVENT
DTSTART;TZID=America/Boise:20250518T100000
DTEND;TZID=America/Boise:20250518T130000
DTSTAMP:20260424T194508
CREATED:20250514T131810Z
LAST-MODIFIED:20250514T131810Z
UID:9672-1747562400-1747573200@shadowdawg.org
SUMMARY:Beginning/Woman's handgun Training
DESCRIPTION:
URL:https://shadowdawg.org/class/beginning-womans-handgun-training-6/
END:VEVENT
BEGIN:VEVENT
DTSTART;TZID=America/Boise:20250517T100000
DTEND;TZID=America/Boise:20250517T130000
DTSTAMP:20260424T194509
CREATED:20250512T223028Z
LAST-MODIFIED:20250512T223028Z
UID:9670-1747476000-1747486800@shadowdawg.org
SUMMARY:Beginning/Woman's Handgun Training
DESCRIPTION:
URL:https://shadowdawg.org/class/beginning-womans-handgun-training-5/
END:VEVENT
BEGIN:VEVENT
DTSTART;TZID=America/Boise:20250516T100000
DTEND;TZID=America/Boise:20250516T130000
DTSTAMP:20260424T194509
CREATED:20250512T222940Z
LAST-MODIFIED:20250512T222940Z
UID:9668-1747389600-1747400400@shadowdawg.org
SUMMARY:Beginning/Woman's Handgun Training
DESCRIPTION:
URL:https://shadowdawg.org/class/beginning-womans-handgun-training-4/
END:VEVENT
BEGIN:VEVENT
DTSTART;TZID=America/Boise:20250515T100000
DTEND;TZID=America/Boise:20250515T130000
DTSTAMP:20260424T194509
CREATED:20250512T222857Z
LAST-MODIFIED:20250512T222857Z
UID:9666-1747303200-1747314000@shadowdawg.org
SUMMARY:Beginning/Woman's Handgun Training
DESCRIPTION:
URL:https://shadowdawg.org/class/beginning-womans-handgun-training-3/
END:VEVENT
BEGIN:VEVENT
DTSTART;TZID=America/Boise:20250514T100000
DTEND;TZID=America/Boise:20250514T130000
DTSTAMP:20260424T194509
CREATED:20250512T222746Z
LAST-MODIFIED:20250512T222746Z
UID:9664-1747216800-1747227600@shadowdawg.org
SUMMARY:Beginning/Woman's Handgun Training
DESCRIPTION:
URL:https://shadowdawg.org/class/beginning-womans-handgun-training-2/
END:VEVENT
BEGIN:VEVENT
DTSTART;TZID=America/Boise:20250513T100000
DTEND;TZID=America/Boise:20250513T130000
DTSTAMP:20260424T194509
CREATED:20250512T222607Z
LAST-MODIFIED:20250512T222656Z
UID:9661-1747130400-1747141200@shadowdawg.org
SUMMARY:Beginning/Woman's Handgun Training
DESCRIPTION:
URL:https://shadowdawg.org/class/beginning-womans-handgun-training/
END:VEVENT
BEGIN:VEVENT
DTSTART;TZID=America/Boise:20250315T100000
DTEND;TZID=America/Boise:20250315T130000
DTSTAMP:20260424T194509
CREATED:20250305T203343Z
LAST-MODIFIED:20250305T203343Z
UID:9654-1742032800-1742043600@shadowdawg.org
SUMMARY:Beginning Handgun Training
DESCRIPTION:
URL:https://shadowdawg.org/class/beginning-handgun-training-22/
END:VEVENT
BEGIN:VEVENT
DTSTART;TZID=America/Boise:20250314T100000
DTEND;TZID=America/Boise:20250314T130000
DTSTAMP:20260424T194509
CREATED:20250305T203300Z
LAST-MODIFIED:20250305T203300Z
UID:9652-1741946400-1741957200@shadowdawg.org
SUMMARY:Beginning Handgun Training
DESCRIPTION:
URL:https://shadowdawg.org/class/beginning-handgun-training-21/
END:VEVENT
BEGIN:VEVENT
DTSTART;TZID=America/Boise:20250313T100000
DTEND;TZID=America/Boise:20250313T130000
DTSTAMP:20260424T194509
CREATED:20250305T203224Z
LAST-MODIFIED:20250305T203224Z
UID:9650-1741860000-1741870800@shadowdawg.org
SUMMARY:Beginning Handgun Training
DESCRIPTION:
URL:https://shadowdawg.org/class/beginning-handgun-training-20/
END:VEVENT
BEGIN:VEVENT
DTSTART;TZID=America/Boise:20250312T100000
DTEND;TZID=America/Boise:20250312T130000
DTSTAMP:20260424T194509
CREATED:20250305T203147Z
LAST-MODIFIED:20250305T203147Z
UID:9648-1741773600-1741784400@shadowdawg.org
SUMMARY:Beginning Handgun Training
DESCRIPTION:
URL:https://shadowdawg.org/class/beginning-handgun-training-19/
END:VEVENT
BEGIN:VEVENT
DTSTART;TZID=America/Boise:20250311T100000
DTEND;TZID=America/Boise:20250311T130000
DTSTAMP:20260424T194509
CREATED:20250305T203106Z
LAST-MODIFIED:20250305T203106Z
UID:9646-1741687200-1741698000@shadowdawg.org
SUMMARY:Beginning Handgun Training
DESCRIPTION:
URL:https://shadowdawg.org/class/beginning-handgun-training-18/
END:VEVENT
BEGIN:VEVENT
DTSTART;TZID=America/Boise:20250310T100000
DTEND;TZID=America/Boise:20250310T130000
DTSTAMP:20260424T194509
CREATED:20250305T203033Z
LAST-MODIFIED:20250305T203033Z
UID:9644-1741600800-1741611600@shadowdawg.org
SUMMARY:Beginning Handgun Training
DESCRIPTION:
URL:https://shadowdawg.org/class/beginning-handgun-training-17/
END:VEVENT
BEGIN:VEVENT
DTSTART;TZID=America/Boise:20250308T100000
DTEND;TZID=America/Boise:20250308T130000
DTSTAMP:20260424T194509
CREATED:20250305T202900Z
LAST-MODIFIED:20250305T202900Z
UID:9640-1741428000-1741438800@shadowdawg.org
SUMMARY:Beginning Handgun Training
DESCRIPTION:
URL:https://shadowdawg.org/class/beginning-handgun-training-15/
END:VEVENT
BEGIN:VEVENT
DTSTART;TZID=America/Boise:20250307T100000
DTEND;TZID=America/Boise:20250307T130000
DTSTAMP:20260424T194509
CREATED:20250227T191749Z
LAST-MODIFIED:20250227T191749Z
UID:9638-1741341600-1741352400@shadowdawg.org
SUMMARY:Beginning Handgun Training
DESCRIPTION:
URL:https://shadowdawg.org/class/beginning-handgun-training-14/
END:VEVENT
BEGIN:VEVENT
DTSTART;TZID=America/Boise:20250306T100000
DTEND;TZID=America/Boise:20250306T130000
DTSTAMP:20260424T194509
CREATED:20250227T191716Z
LAST-MODIFIED:20250227T191716Z
UID:9636-1741255200-1741266000@shadowdawg.org
SUMMARY:Beginning Handgun Training
DESCRIPTION:
URL:https://shadowdawg.org/class/beginning-handgun-training-13/
END:VEVENT
BEGIN:VEVENT
DTSTART;TZID=America/Boise:20250305T100000
DTEND;TZID=America/Boise:20250305T130000
DTSTAMP:20260424T194509
CREATED:20250305T202939Z
LAST-MODIFIED:20250305T202939Z
UID:9642-1741168800-1741179600@shadowdawg.org
SUMMARY:Beginning Handgun Training
DESCRIPTION:
URL:https://shadowdawg.org/class/beginning-handgun-training-16/
END:VEVENT
BEGIN:VEVENT
DTSTART;TZID=America/Boise:20250305T100000
DTEND;TZID=America/Boise:20250305T130000
DTSTAMP:20260424T194509
CREATED:20250227T191640Z
LAST-MODIFIED:20250227T191640Z
UID:9634-1741168800-1741179600@shadowdawg.org
SUMMARY:Beginning Handgun Training
DESCRIPTION:
URL:https://shadowdawg.org/class/beginning-handgun-training-12/
END:VEVENT
BEGIN:VEVENT
DTSTART;TZID=America/Boise:20250304T100000
DTEND;TZID=America/Boise:20250304T130000
DTSTAMP:20260424T194509
CREATED:20250227T191604Z
LAST-MODIFIED:20250227T191604Z
UID:9632-1741082400-1741093200@shadowdawg.org
SUMMARY:Beginning Handgun Training
DESCRIPTION:
URL:https://shadowdawg.org/class/beginning-handgun-training-11/
END:VEVENT
BEGIN:VEVENT
DTSTART;TZID=America/Boise:20250303T100000
DTEND;TZID=America/Boise:20250303T130000
DTSTAMP:20260424T194509
CREATED:20250227T191534Z
LAST-MODIFIED:20250227T191534Z
UID:9630-1740996000-1741006800@shadowdawg.org
SUMMARY:Beginning Handgun Training
DESCRIPTION:
URL:https://shadowdawg.org/class/beginning-handgun-training-10/
END:VEVENT
BEGIN:VEVENT
DTSTART;TZID=America/Boise:20250302T100000
DTEND;TZID=America/Boise:20250302T130000
DTSTAMP:20260424T194509
CREATED:20250227T191459Z
LAST-MODIFIED:20250227T191459Z
UID:9628-1740909600-1740920400@shadowdawg.org
SUMMARY:Beginning Handgun Training
DESCRIPTION:
URL:https://shadowdawg.org/class/beginning-handgun-training-9/
END:VEVENT
BEGIN:VEVENT
DTSTART;TZID=America/Boise:20250301T100000
DTEND;TZID=America/Boise:20250301T130000
DTSTAMP:20260424T194509
CREATED:20250227T191425Z
LAST-MODIFIED:20250227T191425Z
UID:9626-1740823200-1740834000@shadowdawg.org
SUMMARY:Beginning Handgun Training
DESCRIPTION:
URL:https://shadowdawg.org/class/beginning-handgun-training-8/
LOCATION:Shadow Dawg
END:VEVENT
BEGIN:VEVENT
DTSTART;TZID=America/Boise:20250228T100000
DTEND;TZID=America/Boise:20250228T130000
DTSTAMP:20260424T194509
CREATED:20250227T191333Z
LAST-MODIFIED:20250227T191333Z
UID:9624-1740736800-1740747600@shadowdawg.org
SUMMARY:Beginning Handgun Training
DESCRIPTION:
URL:https://shadowdawg.org/class/beginning-handgun-training-7/
LOCATION:Shadow Dawg
END:VEVENT
BEGIN:VEVENT
DTSTART;TZID=America/Boise:20250227T100000
DTEND;TZID=America/Boise:20250227T130000
DTSTAMP:20260424T194509
CREATED:20250227T191116Z
LAST-MODIFIED:20250227T191149Z
UID:9622-1740650400-1740661200@shadowdawg.org
SUMMARY:Beginning Handgun Training
DESCRIPTION:
URL:https://shadowdawg.org/class/beginning-handgun-training-6/
LOCATION:Shadow Dawg
END:VEVENT
BEGIN:VEVENT
DTSTART;TZID=America/Boise:20250214T100000
DTEND;TZID=America/Boise:20250214T130000
DTSTAMP:20260424T194509
CREATED:20250128T012946Z
LAST-MODIFIED:20250128T012946Z
UID:9616-1739527200-1739538000@shadowdawg.org
SUMMARY:Idaho ECCW - Private Lesson:  class full
DESCRIPTION:
URL:https://shadowdawg.org/class/idaho-eccw-private-lesson-class-full-5/
LOCATION:Shadow Dawg
END:VEVENT
BEGIN:VEVENT
DTSTART;TZID=America/Boise:20250212T100000
DTEND;TZID=America/Boise:20250212T130000
DTSTAMP:20260424T194509
CREATED:20250128T012803Z
LAST-MODIFIED:20250128T012803Z
UID:9614-1739354400-1739365200@shadowdawg.org
SUMMARY:Idaho ECCW - Private Lesson: class full
DESCRIPTION:
URL:https://shadowdawg.org/class/idaho-eccw-private-lesson-class-full-4/
LOCATION:Shadow Dawg
END:VEVENT
END:VCALENDAR